BEGIN:VCALENDAR
VERSION:2.0
PRODID:-//River Gallery &amp; Gifts - ECPv6.15.20//NONSGML v1.0//EN
CALSCALE:GREGORIAN
METHOD:PUBLISH
X-ORIGINAL-URL:https://riverartgalleryandgifts.com
X-WR-CALDESC:Events for River Gallery &amp; Gifts
REFRESH-INTERVAL;VALUE=DURATION:PT1H
X-Robots-Tag:noindex
X-PUBLISHED-TTL:PT1H
BEGIN:VTIMEZONE
TZID:America/New_York
BEGIN:DAYLIGHT
TZOFFSETFROM:-0500
TZOFFSETTO:-0400
TZNAME:EDT
DTSTART:20200308T070000
END:DAYLIGHT
BEGIN:STANDARD
TZOFFSETFROM:-0400
TZOFFSETTO:-0500
TZNAME:EST
DTSTART:20201101T060000
END:STANDARD
BEGIN:DAYLIGHT
TZOFFSETFROM:-0500
TZOFFSETTO:-0400
TZNAME:EDT
DTSTART:20210314T070000
END:DAYLIGHT
BEGIN:STANDARD
TZOFFSETFROM:-0400
TZOFFSETTO:-0500
TZNAME:EST
DTSTART:20211107T060000
END:STANDARD
BEGIN:DAYLIGHT
TZOFFSETFROM:-0500
TZOFFSETTO:-0400
TZNAME:EDT
DTSTART:20220313T070000
END:DAYLIGHT
BEGIN:STANDARD
TZOFFSETFROM:-0400
TZOFFSETTO:-0500
TZNAME:EST
DTSTART:20221106T060000
END:STANDARD
BEGIN:DAYLIGHT
TZOFFSETFROM:-0500
TZOFFSETTO:-0400
TZNAME:EDT
DTSTART:20230312T070000
END:DAYLIGHT
BEGIN:STANDARD
TZOFFSETFROM:-0400
TZOFFSETTO:-0500
TZNAME:EST
DTSTART:20231105T060000
END:STANDARD
BEGIN:DAYLIGHT
TZOFFSETFROM:-0500
TZOFFSETTO:-0400
TZNAME:EDT
DTSTART:20240310T070000
END:DAYLIGHT
BEGIN:STANDARD
TZOFFSETFROM:-0400
TZOFFSETTO:-0500
TZNAME:EST
DTSTART:20241103T060000
END:STANDARD
END:VTIMEZONE
BEGIN:VEVENT
DTSTART;TZID=America/New_York:20210320T100000
DTEND;TZID=America/New_York:20210320T160000
DTSTAMP:20260423T161801
CREATED:20210219T210223Z
LAST-MODIFIED:20210303T132333Z
UID:10000094-1616234400-1616256000@riverartgalleryandgifts.com
SUMMARY:Workshop Walkabout - March
DESCRIPTION:Gather your friends for this FUN\, FUN\, FUN event. The Workshop Walkabout Tour is a collaborative event hosted by members of the NT Downtown Merchants Association. This is a progressive event with each participant partaking in hands on and demonstration activities.\n• Stained glass class at Gleam & Glimmer\n• Cooking class including lunch at Webster’s Kitchen\n• River Art Gallery & Gifts -Watercolor painting with Beverly DiPalma\n$85 p/p Limited spaces\nClick here for details & registration
URL:https://riverartgalleryandgifts.com/event/workshop-walkabout-march/
CATEGORIES:Classes & Workshops
ATTACH;FMTTYPE=image/jpeg:https://riverartgalleryandgifts.com/wp-content/uploads/2021/02/March_workshop_walkabout_forweb.jpg
END:VEVENT
BEGIN:VEVENT
DTSTART;TZID=America/New_York:20210320T110000
DTEND;TZID=America/New_York:20210417T170000
DTSTAMP:20260423T161801
CREATED:20210322T143826Z
LAST-MODIFIED:20210323T211234Z
UID:10000095-1616238000-1618678800@riverartgalleryandgifts.com
SUMMARY:Fine Arts League Spring Exhibition
DESCRIPTION:  \n 
URL:https://riverartgalleryandgifts.com/event/fine-arts-league-spring-exhibition/
CATEGORIES:Exhibit Opening,Exhibits
ATTACH;FMTTYPE=image/jpeg:https://riverartgalleryandgifts.com/wp-content/uploads/2021/03/FineArtsLeague_2021_web_graphic.jpg
END:VEVENT
BEGIN:VEVENT
DTSTART;TZID=America/New_York:20210424T110000
DTEND;TZID=America/New_York:20210522T170000
DTSTAMP:20260423T161801
CREATED:20210322T143945Z
LAST-MODIFIED:20210507T144134Z
UID:10000096-1619262000-1621702800@riverartgalleryandgifts.com
SUMMARY:Dennis Bertram Solo Exhibition
DESCRIPTION:Artist StatementWhen I began learning to paint\, as with most newbies\, my subject matter was traditional. Eventually I discovered my own unique abstract style. Nevertheless\, I continue to try my hand with more conventional imagery such as the faces\, figures and narratives of this exhibition. Only a few of the paintings in the show have ever been exhibited in public. Instead\, they reside on the walls of my home. I hope viewing these paintings will bring as much enjoyment as I had in painting them. \nCLICK HERE FOR VIDEO INTERVIEW OF DENNIS BERTRAM
URL:https://riverartgalleryandgifts.com/event/dennis-bertram-solo-exhibition-2/
CATEGORIES:Exhibit Opening,Exhibits
ATTACH;FMTTYPE=image/jpeg:https://riverartgalleryandgifts.com/wp-content/uploads/2021/04/Dennis_Bertram_exhibition_FB.jpg
END:VEVENT
BEGIN:VEVENT
DTSTART;TZID=America/New_York:20210529T110000
DTEND;TZID=America/New_York:20210626T170000
DTSTAMP:20260423T161801
CREATED:20210322T144205Z
LAST-MODIFIED:20210607T181106Z
UID:10000097-1622286000-1624726800@riverartgalleryandgifts.com
SUMMARY:Mixed Up Media Exhibition
DESCRIPTION:CLICK HERE TO VIEW VIDEO OF MIXED-UP MEDIA EXHIBITION\n \nCongratulations to all AWARD WINNERS of the 2021 Mixed-Up Media & Fiber Exhibition. Judge: Robert Booth.\n\n\n\n\n\n\nStop by to see the creative submissions. While viewing – vote for your favorite for the “PEOPLES CHOICE AWARD”.
URL:https://riverartgalleryandgifts.com/event/mixed-up-media-exhibition/
CATEGORIES:Exhibit Opening,Exhibits
ATTACH;FMTTYPE=image/jpeg:https://riverartgalleryandgifts.com/wp-content/uploads/2021/04/Mixed_Media_Exhibition_FB.jpg
END:VEVENT
BEGIN:VEVENT
DTSTART;TZID=America/New_York:20210612T100000
DTEND;TZID=America/New_York:20210612T160000
DTSTAMP:20260423T161801
CREATED:20210607T155545Z
LAST-MODIFIED:20210607T155545Z
UID:10000104-1623492000-1623513600@riverartgalleryandgifts.com
SUMMARY:Workshop Walkabout - June
DESCRIPTION:Gather your friends for this FUN\, FUN\, FUN event. The Workshop Walkabout Tour is a collaborative event hosted by members of the NT Downtown Merchants Association. This is a progressive event with each participant partaking in hands on and demonstration activities.\n• Stained glass class at Gleam & Glimmer\n• Cooking class including lunch at Webster’s Kitchen\n• River Art Gallery & Gifts -Watercolor painting with Beverly DiPalma\n$85 p/p Limited spaces\nClick here for details & registration
URL:https://riverartgalleryandgifts.com/event/workshop-walkabout-june/
CATEGORIES:Classes & Workshops
ATTACH;FMTTYPE=image/jpeg:https://riverartgalleryandgifts.com/wp-content/uploads/2021/06/workshop_walkabout_eventgraphic.jpg
END:VEVENT
BEGIN:VEVENT
DTSTART;TZID=America/New_York:20210703T110000
DTEND;TZID=America/New_York:20210731T170000
DTSTAMP:20260423T161801
CREATED:20210322T144328Z
LAST-MODIFIED:20210614T194144Z
UID:10000098-1625310000-1627750800@riverartgalleryandgifts.com
SUMMARY:2021 River Gallery Members Showcase
DESCRIPTION:2021 Annual Members Showcase features general & resident members.\nOpening Reception Saturday\, July 3\, 2021 from 1pm-5pm\nFill out form below and submit for intent or download and print/send form to gallery@riverartgalleryandgifts.com \nClick here to view/download prospectus\n\n	Notice: JavaScript is required for this content.
URL:https://riverartgalleryandgifts.com/event/2021-river-gallery-members-showcase/
CATEGORIES:Exhibit Opening,Exhibits
ATTACH;FMTTYPE=image/jpeg:https://riverartgalleryandgifts.com/wp-content/uploads/2021/06/Members_Show_2021_graphic-e1623696138326.jpg
END:VEVENT
BEGIN:VEVENT
DTSTART;TZID=America/New_York:20210724T100000
DTEND;TZID=America/New_York:20210725T170000
DTSTAMP:20260423T161801
CREATED:20210322T144558Z
LAST-MODIFIED:20210322T150253Z
UID:10000099-1627120800-1627232400@riverartgalleryandgifts.com
SUMMARY:Annual Canal Fest Artist Demonstrations
DESCRIPTION:  \n 
URL:https://riverartgalleryandgifts.com/event/annual-canal-fest-artist-demonstrations/
CATEGORIES:Exhibit Opening,Exhibits
END:VEVENT
BEGIN:VEVENT
DTSTART;TZID=America/New_York:20210807T110000
DTEND;TZID=America/New_York:20210904T170000
DTSTAMP:20260423T161801
CREATED:20210322T144715Z
LAST-MODIFIED:20210913T193932Z
UID:10000100-1628334000-1630774800@riverartgalleryandgifts.com
SUMMARY:Behind the Scenes - Staff Exhibit
DESCRIPTION:It’s time to show off our passion for the Arts.We’re presenting a selection of our staff & team’s artwork.\nRiver Gallery Staff ExhibitionAug. 7 – Sept. 4\, 2021 \nOpening ReceptionSat.\, Aug.\, 7\, 2021 – 4-7pm\nClick to View Exhibit Video\n  \n 
URL:https://riverartgalleryandgifts.com/event/tbd-exhibition/
CATEGORIES:Exhibit Opening,Exhibits
ATTACH;FMTTYPE=image/jpeg:https://riverartgalleryandgifts.com/wp-content/uploads/2021/03/Staff_Exhibit_forweb.jpg
END:VEVENT
BEGIN:VEVENT
DTSTART;TZID=America/New_York:20210911T110000
DTEND;TZID=America/New_York:20211009T170000
DTSTAMP:20260423T161801
CREATED:20210322T144819Z
LAST-MODIFIED:20210913T193332Z
UID:10000101-1631358000-1633798800@riverartgalleryandgifts.com
SUMMARY:Jerold Glaser Solo Exhibition
DESCRIPTION:Some of This and Some of That – Mixed Media Assemblages by Jerry Glaser. \nSept. 11 – Oct 9\, 2021 \nOpening Reception Sept 11\, 2021. 5-7pm \n \n  \n 
URL:https://riverartgalleryandgifts.com/event/jerold-glaser-solo-exhibition/
CATEGORIES:Exhibit Opening,Exhibits
ATTACH;FMTTYPE=image/jpeg:https://riverartgalleryandgifts.com/wp-content/uploads/2021/03/Jerry_Glaser_exhibit_graphic.jpg
END:VEVENT
BEGIN:VEVENT
DTSTART;TZID=America/New_York:20211015T110000
DTEND;TZID=America/New_York:20211113T170000
DTSTAMP:20260423T161801
CREATED:20210322T144921Z
LAST-MODIFIED:20210913T195039Z
UID:10000102-1634295600-1636822800@riverartgalleryandgifts.com
SUMMARY:Barbara Rickard Solo Exhibition
DESCRIPTION:FUN Art for FINE People (and vise versa)Solo ExhibitionOctober 15 – November 13\, 2021 \nOpening ReceptionFriday\, Oct 15th – 4pm-7pm \n\n \n  \n 
URL:https://riverartgalleryandgifts.com/event/barbara-rickard-solo-exhibition-2/
CATEGORIES:Exhibit Opening,Exhibits
ATTACH;FMTTYPE=image/jpeg:https://riverartgalleryandgifts.com/wp-content/uploads/2021/03/Barbar_Rickard_show_info_web-scaled.jpg
END:VEVENT
BEGIN:VEVENT
DTSTART;TZID=America/New_York:20211120T110000
DTEND;TZID=America/New_York:20211231T170000
DTSTAMP:20260423T161801
CREATED:20210322T145030Z
LAST-MODIFIED:20210322T150610Z
UID:10000103-1637406000-1640970000@riverartgalleryandgifts.com
SUMMARY:Holiday Exhibition
DESCRIPTION:  \n 
URL:https://riverartgalleryandgifts.com/event/holiday-exhibition/
CATEGORIES:Exhibit Opening,Exhibits
END:VEVENT
BEGIN:VEVENT
DTSTART;TZID=America/New_York:20220212T110000
DTEND;TZID=America/New_York:20220312T170000
DTSTAMP:20260423T161801
CREATED:20220203T203818Z
LAST-MODIFIED:20220203T212411Z
UID:10000106-1644663600-1647104400@riverartgalleryandgifts.com
SUMMARY:Jody Ziehm Student Exhibition
DESCRIPTION:Watercolor Artist Jody Ziehm – Student Exhibition\nOpening Reception\nFebruary 12\, 20224pm – 7pm\nOn view February 10 – March 12\, 2022
URL:https://riverartgalleryandgifts.com/event/jody-ziehm-student-exhibition-2/
CATEGORIES:Exhibit Opening,Exhibits
ATTACH;FMTTYPE=image/jpeg:https://riverartgalleryandgifts.com/wp-content/uploads/2022/02/Jody_student_exhibtion_FB_graphic-1.jpg
END:VEVENT
BEGIN:VEVENT
DTSTART;TZID=America/New_York:20220317T110000
DTEND;TZID=America/New_York:20220416T170000
DTSTAMP:20260423T161801
CREATED:20220203T205106Z
LAST-MODIFIED:20220228T200503Z
UID:10000028-1647514800-1650128400@riverartgalleryandgifts.com
SUMMARY:BNAA Spring Exhibition
DESCRIPTION:BNAA Spring Exhibition\nOpening Reception\nMarch 19\, 20224pm – 7pm\nOn view March 17 – April 16\, 2022
URL:https://riverartgalleryandgifts.com/event/bnaa-spring-exhibition/
CATEGORIES:Exhibit Opening,Exhibits
ATTACH;FMTTYPE=image/jpeg:https://riverartgalleryandgifts.com/wp-content/uploads/2022/02/BNAA_EXHIBIT_GRAPHIC.jpg
END:VEVENT
BEGIN:VEVENT
DTSTART;TZID=America/New_York:20220421T110000
DTEND;TZID=America/New_York:20220521T170000
DTSTAMP:20260423T161801
CREATED:20220203T210903Z
LAST-MODIFIED:20220422T003515Z
UID:10000031-1650538800-1653152400@riverartgalleryandgifts.com
SUMMARY:Animal Kingdom Exhibition
DESCRIPTION:Animal Kingdom Exhibition – Juried\nOpening Reception\nApril 22\, 20224pm – 7pm\nOn view April 22 – May 21\, 2022
URL:https://riverartgalleryandgifts.com/event/animal-kingdom-exhibition/
CATEGORIES:Exhibit Opening,Exhibits
ATTACH;FMTTYPE=image/jpeg:https://riverartgalleryandgifts.com/wp-content/uploads/2022/02/Animal_Kingdom_graphic-1.jpg
END:VEVENT
BEGIN:VEVENT
DTSTART;TZID=America/New_York:20220527T110000
DTEND;TZID=America/New_York:20220626T170000
DTSTAMP:20260423T161801
CREATED:20220227T211353Z
LAST-MODIFIED:20220422T010911Z
UID:10000045-1653649200-1656262800@riverartgalleryandgifts.com
SUMMARY:Mixed Up Media
DESCRIPTION:Mixed Up Media Exhibition – Juried\nOpening Reception\nMay 27\, 20224pm – 7pm\nOn view May 27 – June 25\, 2022
URL:https://riverartgalleryandgifts.com/event/mixed-up-media/
CATEGORIES:Exhibit Opening,Exhibits
ATTACH;FMTTYPE=image/jpeg:https://riverartgalleryandgifts.com/wp-content/uploads/2022/02/Eight-Days-a-Week.jpg
END:VEVENT
BEGIN:VEVENT
DTSTART;TZID=America/New_York:20220702T110000
DTEND;TZID=America/New_York:20220730T170000
DTSTAMP:20260423T161801
CREATED:20220202T212009Z
LAST-MODIFIED:20220607T160317Z
UID:10000105-1656759600-1659200400@riverartgalleryandgifts.com
SUMMARY:River Gallery Members Exhibition
DESCRIPTION:River Gallery Members Exhibition\nOpening Reception\nJuly 2\, 20224pm – 7pm\nOn view July 2 – July 31\, 2022\nCLICK HERE FOR PROSPECTUS
URL:https://riverartgalleryandgifts.com/event/river-gallery-members-exhibition/
CATEGORIES:Exhibit Opening,Exhibits
ATTACH;FMTTYPE=image/jpeg:https://riverartgalleryandgifts.com/wp-content/uploads/2022/02/Members_Show_2022_FB_graphic.jpg
END:VEVENT
BEGIN:VEVENT
DTSTART;TZID=America/New_York:20220806T110000
DTEND;TZID=America/New_York:20220905T170000
DTSTAMP:20260423T161801
CREATED:20220203T212926Z
LAST-MODIFIED:20220422T011116Z
UID:10000033-1659783600-1662397200@riverartgalleryandgifts.com
SUMMARY:Breaking Glass - Watercolor Exhibition
DESCRIPTION:Breaking Glass – Watercolor Exhibition\nOpening Reception\nAugust 6\, 20224pm – 7pm\nOn view August 4 – September 3\, 2022
URL:https://riverartgalleryandgifts.com/event/wny-artists-group/
CATEGORIES:Exhibit Opening,Exhibits
END:VEVENT
BEGIN:VEVENT
DTSTART;TZID=America/New_York:20220909T160000
DTEND;TZID=America/New_York:20221009T190000
DTSTAMP:20260423T161801
CREATED:20220203T213458Z
LAST-MODIFIED:20220908T164453Z
UID:10000036-1662739200-1665342000@riverartgalleryandgifts.com
SUMMARY:Fine Arts League
DESCRIPTION:Fine Arts League Exhibition\nOpening Reception\nSeptember 9\, 20224pm – 7pm\nOn view September 8 – October 8\, 2022
URL:https://riverartgalleryandgifts.com/event/fine-arts-league/
CATEGORIES:Exhibit Opening,Exhibits
ATTACH;FMTTYPE=image/jpeg:https://riverartgalleryandgifts.com/wp-content/uploads/2022/02/FAL_FB_graphic.jpg
END:VEVENT
BEGIN:VEVENT
DTSTART;TZID=America/New_York:20221014T110000
DTEND;TZID=America/New_York:20221111T170000
DTSTAMP:20260423T161801
CREATED:20220215T214041Z
LAST-MODIFIED:20220908T164347Z
UID:10000039-1665745200-1668186000@riverartgalleryandgifts.com
SUMMARY:4 Artists Exhibition: Doug Mess\, Jeanne Gugino\, Brien Berberich\, Theone Oblamski
DESCRIPTION:Trio Exhibition: Doug Mess\, Jeanne Gugino\, Brien Berberich\nOpening Reception\nOctober 14\, 20224pm – 7pm\nOn view October 13 – November 12\, 2022
URL:https://riverartgalleryandgifts.com/event/trio-exhibition-doug-mess-jeanne-gugino-brien-berberich/
CATEGORIES:Exhibit Opening,Exhibits
ATTACH;FMTTYPE=image/jpeg:https://riverartgalleryandgifts.com/wp-content/uploads/2022/02/Expression-X4_FB_graphic.jpg
END:VEVENT
BEGIN:VEVENT
DTSTART;TZID=America/New_York:20221118T110000
DTEND;TZID=America/New_York:20221216T170000
DTSTAMP:20260423T161801
CREATED:20220219T214550Z
LAST-MODIFIED:20221021T172006Z
UID:10000042-1668769200-1671210000@riverartgalleryandgifts.com
SUMMARY:River Gallery Annual Holiday Exhibition
DESCRIPTION:River Gallery Annual Holiday Exhibition\nOpening Reception\nNovember 18\, 20224pm – 7pm\nOn view November 18 – December 31\, 2022
URL:https://riverartgalleryandgifts.com/event/river-gallery-annual-holiday-exhibition/
CATEGORIES:Exhibit Opening,Exhibits
ATTACH;FMTTYPE=image/jpeg:https://riverartgalleryandgifts.com/wp-content/uploads/2022/02/2022_Holiday_Exhibition_postcard-1.jpg
END:VEVENT
BEGIN:VEVENT
DTSTART;TZID=America/New_York:20230216T173000
DTEND;TZID=America/New_York:20230216T203000
DTSTAMP:20260423T161801
CREATED:20230216T103029Z
LAST-MODIFIED:20230201T172545Z
UID:10000076-1676568600-1676579400@riverartgalleryandgifts.com
SUMMARY:Making Buffalos - River Art Gallery & Webster's Bistro
DESCRIPTION:Making Buffalos with Paintress Barbara Rickard\nClass Schedule & ThemesThursday\, Feb. 16\, 2023 “All-American Buffalo”Thursday\, March 16\, 2023 ” Irish Buffalo” \nRiver Art Gallery & Gifts has partnered with Webster’s Bistro. Create a painting with step-by-step instruction from artist Barbara Rickard – then off to Webster’s Bistro for a 4 course dinner. $65 p/p includes painting & dinner.\nCLICK HERE FOR DETAILS & REGISTRATION
URL:https://riverartgalleryandgifts.com/event/making-buffalos-river-art-gallery-websters-bistro/
CATEGORIES:Classes & Workshops,Event
ATTACH;FMTTYPE=image/jpeg:https://riverartgalleryandgifts.com/wp-content/uploads/2023/02/rivergallery_door_buffalo.jpg
END:VEVENT
BEGIN:VEVENT
DTSTART;TZID=America/New_York:20230216T173000
DTEND;TZID=America/New_York:20230216T203000
DTSTAMP:20260423T161801
CREATED:20230201T172105Z
LAST-MODIFIED:20230201T172105Z
UID:10000107-1676568600-1676579400@riverartgalleryandgifts.com
SUMMARY:Making Buffalos with Barbara Rickard
DESCRIPTION:River Art Gallery & Gifts has partnered with Webster’s Bistro for a fun & creative evening.\nCome to River Gallery and paint a Buffalo with artist Barbara Rickard\, then off to Webster’s Bistro for a 4 course dinner. \nThursday\, Feb 16\, 2023\n5:30pm – 8:30pm \nCLICK HERE FOR INFO / REGISTRATION
URL:https://riverartgalleryandgifts.com/event/making-buffalos-with-barbara-rickard/
CATEGORIES:Event
ATTACH;FMTTYPE=image/jpeg:https://riverartgalleryandgifts.com/wp-content/uploads/2023/02/rivergalleryfront_buffalo2.jpg
END:VEVENT
BEGIN:VEVENT
DTSTART;TZID=America/New_York:20230310T110000
DTEND;TZID=America/New_York:20230415T170000
DTSTAMP:20260423T161801
CREATED:20230102T180815Z
LAST-MODIFIED:20230102T181239Z
UID:10000048-1678446000-1681578000@riverartgalleryandgifts.com
SUMMARY:Just Buffaloes II the Sequel
DESCRIPTION:Just Buffaloes II the Sequel Exhibition\nOpening Reception\nMarch 10\, 2023\n4pm – 7pm\nOn view March 10 – April 15\, 2023
URL:https://riverartgalleryandgifts.com/event/just-buffaloes-ii-the-sequel/
CATEGORIES:Exhibit Opening,Exhibits
ATTACH;FMTTYPE=image/jpeg:https://riverartgalleryandgifts.com/wp-content/uploads/2023/01/JustBuffaloes2_4x6_Postcard_front.jpg
END:VEVENT
BEGIN:VEVENT
DTSTART;TZID=America/New_York:20230422T160000
DTEND;TZID=America/New_York:20230520T170000
DTSTAMP:20260423T161801
CREATED:20230419T000540Z
LAST-MODIFIED:20230419T001110Z
UID:10000108-1682179200-1684602000@riverartgalleryandgifts.com
SUMMARY:BSA - OPEN Members Exhibition
DESCRIPTION:BSA – Buffalo Society of Artists\nOpen Members Exhibition\nApril 22 – May 20\, 2023\nOPENING RECEPTION\nApril 28\, 2023 – 4pm-7pm
URL:https://riverartgalleryandgifts.com/event/bsa-open-members-exhibition/
ATTACH;FMTTYPE=image/png:https://riverartgalleryandgifts.com/wp-content/uploads/2023/04/Screen-Shot-2023-04-18-at-7.52.25-PM-1.png
END:VEVENT
END:VCALENDAR