BEGIN:VCALENDAR
VERSION:2.0
PRODID:-//River Gallery &amp; Gifts - ECPv6.15.20//NONSGML v1.0//EN
CALSCALE:GREGORIAN
METHOD:PUBLISH
X-WR-CALNAME:River Gallery &amp; Gifts
X-ORIGINAL-URL:https://riverartgalleryandgifts.com
X-WR-CALDESC:Events for River Gallery &amp; Gifts
REFRESH-INTERVAL;VALUE=DURATION:PT1H
X-Robots-Tag:noindex
X-PUBLISHED-TTL:PT1H
BEGIN:VTIMEZONE
TZID:America/New_York
BEGIN:DAYLIGHT
TZOFFSETFROM:-0500
TZOFFSETTO:-0400
TZNAME:EDT
DTSTART:20130310T070000
END:DAYLIGHT
BEGIN:STANDARD
TZOFFSETFROM:-0400
TZOFFSETTO:-0500
TZNAME:EST
DTSTART:20131103T060000
END:STANDARD
BEGIN:DAYLIGHT
TZOFFSETFROM:-0500
TZOFFSETTO:-0400
TZNAME:EDT
DTSTART:20140309T070000
END:DAYLIGHT
BEGIN:STANDARD
TZOFFSETFROM:-0400
TZOFFSETTO:-0500
TZNAME:EST
DTSTART:20141102T060000
END:STANDARD
BEGIN:DAYLIGHT
TZOFFSETFROM:-0500
TZOFFSETTO:-0400
TZNAME:EDT
DTSTART:20150308T070000
END:DAYLIGHT
BEGIN:STANDARD
TZOFFSETFROM:-0400
TZOFFSETTO:-0500
TZNAME:EST
DTSTART:20151101T060000
END:STANDARD
BEGIN:DAYLIGHT
TZOFFSETFROM:-0500
TZOFFSETTO:-0400
TZNAME:EDT
DTSTART:20160313T070000
END:DAYLIGHT
BEGIN:STANDARD
TZOFFSETFROM:-0400
TZOFFSETTO:-0500
TZNAME:EST
DTSTART:20161106T060000
END:STANDARD
BEGIN:DAYLIGHT
TZOFFSETFROM:-0500
TZOFFSETTO:-0400
TZNAME:EDT
DTSTART:20170312T070000
END:DAYLIGHT
BEGIN:STANDARD
TZOFFSETFROM:-0400
TZOFFSETTO:-0500
TZNAME:EST
DTSTART:20171105T060000
END:STANDARD
BEGIN:DAYLIGHT
TZOFFSETFROM:-0500
TZOFFSETTO:-0400
TZNAME:EDT
DTSTART:20180311T070000
END:DAYLIGHT
BEGIN:STANDARD
TZOFFSETFROM:-0400
TZOFFSETTO:-0500
TZNAME:EST
DTSTART:20181104T060000
END:STANDARD
BEGIN:DAYLIGHT
TZOFFSETFROM:-0500
TZOFFSETTO:-0400
TZNAME:EDT
DTSTART:20190310T070000
END:DAYLIGHT
BEGIN:STANDARD
TZOFFSETFROM:-0400
TZOFFSETTO:-0500
TZNAME:EST
DTSTART:20191103T060000
END:STANDARD
BEGIN:DAYLIGHT
TZOFFSETFROM:-0500
TZOFFSETTO:-0400
TZNAME:EDT
DTSTART:20200308T070000
END:DAYLIGHT
BEGIN:STANDARD
TZOFFSETFROM:-0400
TZOFFSETTO:-0500
TZNAME:EST
DTSTART:20201101T060000
END:STANDARD
BEGIN:DAYLIGHT
TZOFFSETFROM:-0500
TZOFFSETTO:-0400
TZNAME:EDT
DTSTART:20210314T070000
END:DAYLIGHT
BEGIN:STANDARD
TZOFFSETFROM:-0400
TZOFFSETTO:-0500
TZNAME:EST
DTSTART:20211107T060000
END:STANDARD
END:VTIMEZONE
BEGIN:VTIMEZONE
TZID:UTC
BEGIN:STANDARD
TZOFFSETFROM:+0000
TZOFFSETTO:+0000
TZNAME:UTC
DTSTART:20160101T000000
END:STANDARD
END:VTIMEZONE
BEGIN:VEVENT
DTSTART;TZID=America/New_York:20200118T160000
DTEND;TZID=America/New_York:20200215T170000
DTSTAMP:20260423T202822
CREATED:20200109T185413Z
LAST-MODIFIED:20200109T191236Z
UID:10000011-1579363200-1581786000@riverartgalleryandgifts.com
SUMMARY:Water\, Water Everywhere!
DESCRIPTION:Water\, Water Everywhere! Open Juried exhibition.January 18 – February 15\, 2020\nOpening Reception Sat. Jan 18\, 2020 – 4-7pm \nArtists Drop Off – Tuesday\, Jan 14\, 2020  1-4pmArtists Pick-Up – Tuesday\, Feb 18\, 2020  11am-1pmCLICK HERE FOR PROSPECTUS
URL:https://riverartgalleryandgifts.com/event/water-water-everywhere/
CATEGORIES:Exhibit Opening,Exhibits,Gallery Exhibit
ATTACH;FMTTYPE=image/jpeg:https://riverartgalleryandgifts.com/wp-content/uploads/2020/01/2020_Water_Water_Everywhere_graphic.jpg
END:VEVENT
BEGIN:VEVENT
DTSTART;TZID=UTC:20191116T080000
DTEND;TZID=UTC:20191231T160000
DTSTAMP:20260423T202822
CREATED:20191119T002243Z
LAST-MODIFIED:20191119T002407Z
UID:10000089-1573891200-1577808000@riverartgalleryandgifts.com
SUMMARY:River Art Gallery - Holiday Exhibition
DESCRIPTION:Annual Holiday Exhibition – OPEN JURIED SHOW \nNovember 16 – December 31\, 2019 Opening Reception Saturday\, November 16\, 2019 – 4-7pm \nCome to the River Gallery and view this fabulous exhibition of work from WNY’s talented artists.
URL:https://riverartgalleryandgifts.com/event/river-art-gallery-holiday-exhibition/
LOCATION:River Art Gallery & Gifts\, 83 Webster St\, North Tonawanda\, NY\, 14120\, United States
CATEGORIES:Exhibits,Gallery Exhibit
ATTACH;FMTTYPE=image/jpeg:https://riverartgalleryandgifts.com/wp-content/uploads/2019/11/holidayShow_graphic.jpg
END:VEVENT
BEGIN:VEVENT
DTSTART;TZID=UTC:20190831T160000
DTEND;TZID=UTC:20190928T160000
DTSTAMP:20260423T202822
CREATED:20190909T041100Z
LAST-MODIFIED:20191120T140547Z
UID:10000083-1567267200-1569686400@riverartgalleryandgifts.com
SUMMARY:A Celebration of the Life & Work of Jack O'Reilly
DESCRIPTION:River Art Gallery Presents:A Celebration of the Life & Work of Jack O’Reilly \nOn view August 31 – September 28\, 2019Opening Reception – Saturday\, August 31\, 2019 4-7pm
URL:https://riverartgalleryandgifts.com/event/a-celebration-of-the-life-work-of-jack-oreilly/
CATEGORIES:Exhibits,Gallery Exhibit
END:VEVENT
BEGIN:VEVENT
DTSTART;TZID=UTC:20190223T160000
DTEND;TZID=UTC:20190323T160000
DTSTAMP:20260423T202822
CREATED:20190221T234757Z
LAST-MODIFIED:20191126T143940Z
UID:10000006-1550937600-1553356800@riverartgalleryandgifts.com
SUMMARY:Perspectives - Student Showcase 2019
DESCRIPTION:Instructor Jody Ziehm presents a curated exhibit of her\nStudent Showcase 2019 at River Gallery & Gifts \nFebruary 23 – March 23\, 2019 \nOPENING RECEPTION\nSaturday\, February 23\, 2019\n4pm – 7pm
URL:https://riverartgalleryandgifts.com/event/perspectives/
CATEGORIES:Exhibits,Gallery Exhibit
ATTACH;FMTTYPE=:
END:VEVENT
BEGIN:VEVENT
DTSTART;TZID=UTC:20181110T110000
DTEND;TZID=UTC:20181229T170000
DTSTAMP:20260423T202822
CREATED:20171227T000109Z
LAST-MODIFIED:20191126T144215Z
UID:10000026-1541847600-1546102800@riverartgalleryandgifts.com
SUMMARY:Juried Holiday Exhibition
DESCRIPTION:Join us once again for our River Art Gallery and Gifts Juried Holiday Exhibition. This show proves to be one of the most diverse collection of art both in subject and medium. The gallery and our front shop always has lots of one-of-a kind work that will fit any taste and budget. This show runs through our North Tonawanda events including Winterwalk and Small Business Saturday.
URL:https://riverartgalleryandgifts.com/event/annual-members-holiday-show/
CATEGORIES:Exhibits,Gallery Exhibit
END:VEVENT
BEGIN:VEVENT
DTSTART;TZID=UTC:20181013T110000
DTEND;TZID=UTC:20181110T170000
DTSTAMP:20260423T202822
CREATED:20171227T023214Z
LAST-MODIFIED:20191126T144255Z
UID:10000079-1539428400-1541869200@riverartgalleryandgifts.com
SUMMARY:Four Art's Sake!
DESCRIPTION:Exhibition of Four WNY Artists – Carlos Torres – Brien Berberich – Doug Mess – Dan Meyer\nOctober 13 – November 10\, 2018\, Opening Reception Oct 13\, 2018\n4-7pm. Come to the opening and meet with the artists and take in their diverse work while enjoying light appetizers and beverages.
URL:https://riverartgalleryandgifts.com/event/october-exhibit/
CATEGORIES:Exhibits,Gallery Exhibit
ATTACH;FMTTYPE=:
END:VEVENT
BEGIN:VEVENT
DTSTART;TZID=UTC:20170922T110000
DTEND;TZID=UTC:20170930T160000
DTSTAMP:20260423T202822
CREATED:20170823T013705Z
LAST-MODIFIED:20170823T013705Z
UID:10000029-1506078000-1506787200@riverartgalleryandgifts.com
SUMMARY:Painting Under The Influence
DESCRIPTION:A DECADE OF CLASSES WITH CONI MINNECI
URL:https://riverartgalleryandgifts.com/event/painting-under-the-influence/
CATEGORIES:Gallery Exhibit
ATTACH;FMTTYPE=:
END:VEVENT
BEGIN:VEVENT
DTSTART;TZID=America/New_York:20151017T180000
DTEND;TZID=America/New_York:20151017T200000
DTSTAMP:20260423T202822
CREATED:20150108T230135Z
LAST-MODIFIED:20150108T230135Z
UID:10000078-1445104800-1445112000@riverartgalleryandgifts.com
SUMMARY:Buffalo Niagara Art Association Exhibition - 2015
DESCRIPTION:More Information to come soon! 🙂
URL:https://riverartgalleryandgifts.com/event/buffalo-niagara-art-association-exhibition-2015/
CATEGORIES:Gallery Exhibit
ATTACH;FMTTYPE=:
END:VEVENT
BEGIN:VEVENT
DTSTART;TZID=America/New_York:20150829T180000
DTEND;TZID=America/New_York:20150829T200000
DTSTAMP:20260423T202822
CREATED:20150208T231456Z
LAST-MODIFIED:20150208T231456Z
UID:10000062-1440871200-1440878400@riverartgalleryandgifts.com
SUMMARY:Len Rusin - Something New\, Old and Plein - OPENING
DESCRIPTION:River Art Gallery and Gifts is pleased to present opening reception for the exhibit “Something New\, Old and Plein” by Len Rusin. \nOpening Reception: August 29th\, 2015\, 6-8pm\nExhibit runs: August 29th to October 10th\, 2015 \nGallery Hours:\nWed-Fri: 11am-4pm\nSat: 11am-5pm \nMore Information to come soon! 🙂
URL:https://riverartgalleryandgifts.com/event/len-rusin-something-new-opening/
CATEGORIES:Gallery Exhibit
ATTACH;FMTTYPE=:
END:VEVENT
BEGIN:VEVENT
DTSTART;TZID=America/New_York:20150829T110000
DTEND;TZID=America/New_York:20151010T160000
DTSTAMP:20260423T202822
CREATED:20150518T215640Z
LAST-MODIFIED:20150518T215640Z
UID:10000056-1440846000-1444492800@riverartgalleryandgifts.com
SUMMARY:Len Rusin - Something New\, Old and Plein
DESCRIPTION:River Art Gallery and Gifts is pleased to present the exhibition “Something New\, Old and Plein” by Len Rusin. \nOpening Reception: August 29th\, 2015\nExhibit runs: August 29th to October 10th\, 2015 \nPublic viewing after opening reception: \nWednesdays – Fridays 11-4  \nSaturdays 11-5 \n  \nMore Information to come soon! 🙂
URL:https://riverartgalleryandgifts.com/event/len-rusin-something-new/
CATEGORIES:Gallery Exhibit
ATTACH;FMTTYPE=:
END:VEVENT
BEGIN:VEVENT
DTSTART;TZID=America/New_York:20150805T110000
DTEND;TZID=America/New_York:20150815T160000
DTSTAMP:20260423T202822
CREATED:20150804T212044Z
LAST-MODIFIED:20150804T212044Z
UID:10000059-1438772400-1439654400@riverartgalleryandgifts.com
SUMMARY:Margaret Raab - Nature Revisited
DESCRIPTION:“Nature Revisited” \n\n\n\n\nArtistʼs Statement – Margaret Raab \n“It is a joy to share the works in this exhibit “Nature Revisited” with you. As a Western New York artist these works represent the places we go and the nature we see. The works are meant to remind us of experiences that connect us to the natural beauty in this region. \nIncluded in this exhibition are several series. The representational style is intended to inspire a personal narrative. Sharing our own experiences brings us closer together and fosters communication and connections\, not only to the nature but to each other. Consistent throughout the works are a focus on detail. I accomplished this by manipulating scale\, light\, and movement. This attention to small individual elements forces the viewer to recognize the importance of each part to the whole experience. \nAs I relocate my studio to the west coast\, I expect to create new and different visions to add to my collection. However\, the beauty found in this area will never be overshadowed.”
URL:https://riverartgalleryandgifts.com/event/margaret-raab-nature-revisited-opening-2/
CATEGORIES:Gallery Exhibit
ATTACH;FMTTYPE=:
END:VEVENT
BEGIN:VEVENT
DTSTART;TZID=America/New_York:20150718T110000
DTEND;TZID=America/New_York:20150801T170000
DTSTAMP:20260423T202822
CREATED:20150108T232221Z
LAST-MODIFIED:20150108T232221Z
UID:10000071-1437217200-1438448400@riverartgalleryandgifts.com
SUMMARY:Canal Fest Members Exhibition - 2015
DESCRIPTION:River Art Gallery and Gifts Participates in the Canal Fest\, located in North Tonawanda\, NY. We have tents on Webster and Main Street. During the Canal Fest River Art Gallery also exhibits our Membered Artists. Please come and check out their beautiful work! \nMore Information to come soon! 🙂
URL:https://riverartgalleryandgifts.com/event/canal-fest-members-exhibition-2015/
CATEGORIES:Canal Fest,Gallery Exhibit
ATTACH;FMTTYPE=:
END:VEVENT
BEGIN:VEVENT
DTSTART;TZID=America/New_York:20150613T170000
DTEND;TZID=America/New_York:20150711T170000
DTSTAMP:20260423T202822
CREATED:20150108T233052Z
LAST-MODIFIED:20150108T233052Z
UID:10000072-1434214800-1436634000@riverartgalleryandgifts.com
SUMMARY:Todd Chalk & Norine M. Spurling Exhibit
DESCRIPTION:River Art Gallery and Gifts is pleased to present an Exhibition\, featuring our members Todd Chalk & Norine M. Spurling. \n  \nTodd Chalk “Then and Now” Exhibition:\nTodd’s compositions usually consist of overlapping planes which substitute for spatial recession\, giving the work depth and dimension. \n\nNorine M. Spurling “Child’s Play” Exhibition:\nNorine’s exhibit is a collection of children at play. \n\n  \nOpening Reception: June 13th\, 2015\, 4-6pm\nExhibit runs: June 13th – July 11th\, 2015 \nGallery Hours:\nWed-Fri: 11am-4pm\nSat: 11am-5pm
URL:https://riverartgalleryandgifts.com/event/todd-chalk-norine-m-spurling-exhibit/
CATEGORIES:Gallery Exhibit
ATTACH;FMTTYPE=:
END:VEVENT
BEGIN:VEVENT
DTSTART;TZID=America/New_York:20150613T050000
DTEND;TZID=America/New_York:20150613T190000
DTSTAMP:20260423T202822
CREATED:20150514T000731Z
LAST-MODIFIED:20150514T000731Z
UID:10000065-1434171600-1434222000@riverartgalleryandgifts.com
SUMMARY:Todd Chalk & Norine M. Spurling - OPENING
DESCRIPTION:River Art Gallery and Gifts is pleased to present an Exhibition\, featuring our members Todd Chalk & Norine M. Spurling. \n  \nTodd Chalk “Then and Now” Exhibition:\nTodd’s compositions usually consist of overlapping planes which substitute for spatial recession\, giving the work depth and dimension. \n\nNorine M. Spurling “Child’s Play” Exhibition:\nNorine’s exhibit is a collection of children at play. \n\n  \nOpening Reception: June 13th\, 2015\, 4-6pm\nExhibit runs: June 13th – July 11th\, 2015 \nGallery Hours:\nWed-Fri: 11am-4pm\nSat: 11am-5pm
URL:https://riverartgalleryandgifts.com/event/todd-chalk-norine-m-spurling-opening/
CATEGORIES:Gallery Exhibit
ATTACH;FMTTYPE=:
END:VEVENT
BEGIN:VEVENT
DTSTART;TZID=America/New_York:20150418T160000
DTEND;TZID=America/New_York:20150418T180000
DTSTAMP:20260423T202822
CREATED:20150518T220807Z
LAST-MODIFIED:20150518T220807Z
UID:10000057-1429372800-1429380000@riverartgalleryandgifts.com
SUMMARY:E. Jane Stoddard - "The Devil is in the Details" - OPENING
DESCRIPTION:River Art Gallery and Gifts is pleased to present the Opening Rection for “The Devil is in the Details” Watercolors by E. Jane Stoddard. \n“The past few years of my life have been filled with great heartbreak and joy.  Throughout it all the one thing that remained constant was my painting.  This show features paintings done prior to and during my most trying years and those that have been created as my life has changed and blossomed with new beginnings.  As my journey continues the narrative of my work is changing but my use of detail to describe my story remains constant. The devil is always in the details for me.” -E. Jane Stoddard \nOpening Reception: April 18th\, 2015\, 4-6pm\nExhibit runs:April 18th – June 6th\, 2015 \nGallery Hours:\nWed-Fri: 11am-4pm\nSat: 11am-5pm
URL:https://riverartgalleryandgifts.com/event/e-jane-stoddard-the-devil-opening/
CATEGORIES:Exhibit Opening,Gallery Exhibit
ATTACH;FMTTYPE=:
END:VEVENT
BEGIN:VEVENT
DTSTART;TZID=America/New_York:20150418T110000
DTEND;TZID=America/New_York:20150606T160000
DTSTAMP:20260423T202822
CREATED:20150108T234313Z
LAST-MODIFIED:20150108T234313Z
UID:10000073-1429354800-1433606400@riverartgalleryandgifts.com
SUMMARY:E. Jane Stoddard - "The Devil is in the Details" Exhibition
DESCRIPTION:River Art Gallery and Gifts is pleased to present “The Devil is in the Details” Watercolors by E. Jane Stoddard. \n“The past few years of my life have been filled with great heartbreak and joy.  Throughout it all the one thing that remained constant was my painting.  This show features paintings done prior to and during my most trying years and those that have been created as my life has changed and blossomed with new beginnings.  As my journey continues the narrative of my work is changing but my use of detail to describe my story remains constant. The devil is always in the details for me.” -E. Jane Stoddard \nOpening Reception: April 18th\, 2015\, 4-6pm\nExhibit runs:April 18th – June 6th\, 2015 \nGallery Hours:\nWed-Fri: 11am-4pm\nSat: 11am-5pm
URL:https://riverartgalleryandgifts.com/event/jane-stoddard-the-devil-is-in-the-details/
CATEGORIES:Gallery Exhibit
ATTACH;FMTTYPE=:
END:VEVENT
BEGIN:VEVENT
DTSTART;TZID=America/New_York:20150307T180000
DTEND;TZID=America/New_York:20150307T200000
DTSTAMP:20260423T202822
CREATED:20150108T234513Z
LAST-MODIFIED:20150108T234513Z
UID:10000074-1425751200-1425758400@riverartgalleryandgifts.com
SUMMARY:Deanna Weinholtz - "Northern Reflections" Exhibit
DESCRIPTION:River Art Gallery and Gifts is pleased to present Deanna Weinholtz – “Northern Reflections” Exhibition. \nA collection of works by Deanna Weinholtz that blend the subtleties of atmospheric changes\, reflections and textures.
URL:https://riverartgalleryandgifts.com/event/deanna-weinholtz-northern-reflections-exhibit/
CATEGORIES:Gallery Exhibit
ATTACH;FMTTYPE=:
END:VEVENT
BEGIN:VEVENT
DTSTART;TZID=America/New_York:20150228T160000
DTEND;TZID=America/New_York:20150228T190000
DTSTAMP:20260423T202822
CREATED:20150128T011006Z
LAST-MODIFIED:20150128T011006Z
UID:10000061-1425139200-1425150000@riverartgalleryandgifts.com
SUMMARY:Members Party & Meeting
DESCRIPTION:At closing for the 2nd Annual January Exhibit there will be a special gathering of members. \nAt the gathering we will introduce River’s new web site\, this years exhibitions\, membership packets\, and on-line consignment. We invite our members to share their feedback on our work up to date and contribute to our goal setting for our futures. \nPICK UP:\nYou may also pick up your work from the January Exhibit at this time.
URL:https://riverartgalleryandgifts.com/event/members-party-meeting/
CATEGORIES:Gallery Exhibit,Members Event
ATTACH;FMTTYPE=:
END:VEVENT
BEGIN:VEVENT
DTSTART;TZID=America/New_York:20150121T110000
DTEND;TZID=America/New_York:20150121T160000
DTSTAMP:20260423T202822
CREATED:20150121T022036Z
LAST-MODIFIED:20150121T022036Z
UID:10000070-1421838000-1421856000@riverartgalleryandgifts.com
SUMMARY:2nd Annual January Members Exhibition
DESCRIPTION:This is our 2nd Annual January Members Exhibit. The River tries to present work from each of our members as part of the benefits of our membership. \nFeaturing the works of our members Ange Bentivegna\, Beverly DiPalma\, Coni Minneci\, Connie Garver\, Ilona Borka\, Jane Ashwill\, Judie Pufpaff\, Kristin D. Fundalinski\, Maureen Matthews\, Melinda K. Schneider\, Rosemarie Cardoso\, Rosetta Monique\, and William McCullagh \n\nGallery is open during Store hours:\nWed-Fri: 11am – 4pm\nSat: 11am – 5pm
URL:https://riverartgalleryandgifts.com/event/2nd-annual-january-members-exhibition/
CATEGORIES:Gallery Exhibit
ATTACH;FMTTYPE=:
END:VEVENT
BEGIN:VEVENT
DTSTART;TZID=America/New_York:20150109T180000
DTEND;TZID=America/New_York:20150109T210000
DTSTAMP:20260423T202822
CREATED:20150108T234847Z
LAST-MODIFIED:20150108T234847Z
UID:10000066-1420826400-1420837200@riverartgalleryandgifts.com
SUMMARY:Cindi O'Mara Exhibit - Ground Level
DESCRIPTION:Our very own Gallery Manager\, Cindi O’Mara\, will be having an exhibit at the TGW Gallery\, in Buffalo\, NY. The exhibit is called  Ground Level\, and we are very excited for her\, so please check it out.
URL:https://riverartgalleryandgifts.com/event/cindi-omara-exhibit-ground-level/
CATEGORIES:Gallery Exhibit
ATTACH;FMTTYPE=:
END:VEVENT
BEGIN:VEVENT
DTSTART;TZID=America/New_York:20141206T110000
DTEND;TZID=America/New_York:20141206T170000
DTSTAMP:20260423T202822
CREATED:20150108T235311Z
LAST-MODIFIED:20150108T235311Z
UID:10000067-1417863600-1417885200@riverartgalleryandgifts.com
SUMMARY:Members Holiday Exhibit - 2014
DESCRIPTION:This is our 2nd Annual Members Holiday Exhibit. The River tries to present work from each of our members as part of the benefits of our membership.  Works include paintings\, cards\, jewelry\, decorative items\, and other objects that would make a wonderful gift. \nGallery is open during Store hours:\nWed-Fri: 11am – 4pm\nSat: 11am – 5pm
URL:https://riverartgalleryandgifts.com/event/members-holiday-exhibit-2014/
CATEGORIES:Gallery Exhibit
ATTACH;FMTTYPE=:
END:VEVENT
BEGIN:VEVENT
DTSTART;TZID=America/New_York:20141004T180000
DTEND;TZID=America/New_York:20141004T200000
DTSTAMP:20260423T202822
CREATED:20150108T235606Z
LAST-MODIFIED:20150108T235606Z
UID:10000068-1412445600-1412452800@riverartgalleryandgifts.com
SUMMARY:Emerging Artist Exhibit 2014
DESCRIPTION:Come out and support our newest artists\, at River Art Gallery’s first ever Emerging Artist Exhibition. \nThis event will give our emerging artists a special opportunity to have their works viewed by our community. As most of us know\, it takes time to get your name known\, so come and support these talented artists. The exhibition will feature an eclectic range of work\, including paintings\, photography\, illustrations\, and more! \nOpening Reception: Sat\, Oct 4th\, 6-8pm. \nThe exhibit runs from October 4th through November 15th \nNormal Gallery Hours: W-F 11-4pm\, Sat 11-5pm
URL:https://riverartgalleryandgifts.com/event/emerging-artist-exhibit-2014/
CATEGORIES:Gallery Exhibit
ATTACH;FMTTYPE=:
END:VEVENT
BEGIN:VEVENT
DTSTART;TZID=America/New_York:20140906T130000
DTEND;TZID=America/New_York:20140906T160000
DTSTAMP:20260423T202822
CREATED:20150108T235759Z
LAST-MODIFIED:20150108T235759Z
UID:10000069-1410008400-1410019200@riverartgalleryandgifts.com
SUMMARY:Still Painting After All These Years\, by Rosemarie Cardoso
DESCRIPTION:The work of Rosemarie Cardoso speaks in the ancient language of color\, texture\, shape and form. Her goal is to touch the mind of the viewer and communicate wonder and emotion. \nEach piece is a multi-mixed media work and should be experienced in person.\nWe proudly present our next Exhibit\, Still Painting After All These Years\, by Rosemarie Cardoso. \nOpening Reception Sept 6th\, 1-4pm. The exhibit runs Sept 6th-27th.\nNormal Gallery hours: W-F 11am-4pm\, Sat 11am-5pm
URL:https://riverartgalleryandgifts.com/event/still-painting-after-all-these-years-by-rosemarie-cardoso/
CATEGORIES:Gallery Exhibit
ATTACH;FMTTYPE=:
END:VEVENT
END:VCALENDAR